BEGIN:VCALENDAR
VERSION:2.0
PRODID:-//AudioTheme 3.0.2
BEGIN:VEVENT
UID:urn:uuid:abd2480d-69ab-4be0-ab6d-41dd62b46679
URL:https://willbernard.com/shows/john-medeskis-mad-skillet-35/
DTSTART;TZID=GMT:20181120T000000
SUMMARY:John Medeski's Mad Skillet
LOCATION:Crystal Bay Club Crown Room
END:VEVENT
END:VCALENDAR
