BEGIN:VCALENDAR
VERSION:2.0
PRODID:-//AudioTheme 3.0.2
BEGIN:VEVENT
UID:urn:uuid:77cc1350-34c7-468f-9b17-c954394b60f4
URL:https://willbernard.com/shows/john-medeskis-mad-skillet-34/
DTSTART;TZID=GMT:20190220T040000
SUMMARY:John Medeski's Mad Skillet
DESCRIPTION:Mad Skillet with John Medeski\, Will Bernard\, Terence Higgins and Kirk Joseph
LOCATION:Sierra Nevada Brewing Co.\, 1075 East 20th Street\, Chico\, CA\, United States\, 95928
END:VEVENT
END:VCALENDAR
