BEGIN:VCALENDAR
VERSION:2.0
PRODID:-//AudioTheme 3.0.2
BEGIN:VEVENT
UID:urn:uuid:e39e4563-b3d0-470f-8638-519df6a44f97
URL:https://willbernard.com/shows/john-medeskis-mad-skillet-33/
DTSTART;VALUE=DATE:20190330
SUMMARY:Mad Skillet
DESCRIPTION:John Medeski's mad Skillet
LOCATION:Savannah Music Festival\, 200 East Saint Julian Street\, Savannah\, GA\, United States\, 31401
END:VEVENT
END:VCALENDAR
