BEGIN:VCALENDAR
VERSION:2.0
PRODID:-//AudioTheme 3.0.2
BEGIN:VEVENT
UID:urn:uuid:3354d655-26f0-4c4a-aa6f-45233bcb950b
URL:https://willbernard.com/shows/john-medeskis-mad-skillet-32/
DTSTART;TZID=GMT:20190223T040000
SUMMARY:John Medeski's Mad Skillet
DESCRIPTION:Mad Skillet with John Medeski\, Will Bernard\, Terence Higgins and Kirk Joseph
LOCATION:The UC Theatre Taube Family Music Hall\, 2036 University Avenue\, Berkeley\, CA\, United States\, 94704
END:VEVENT
END:VCALENDAR
