BEGIN:VCALENDAR
VERSION:2.0
PRODID:-//AudioTheme 3.0.2
BEGIN:VEVENT
UID:urn:uuid:894a9b47-3915-4e11-b233-0d6c2816ebc5
URL:https://willbernard.com/shows/john-medeskis-mad-skillet-31/
DTSTART;TZID=GMT:20190218T040000
SUMMARY:John Medeski's Mad Skillet
DESCRIPTION:Mad Skillet with John Medeski\, Will Bernard\, Terence Higgins and Kirk Joseph
LOCATION:Midtown Ballroom/Domino Room/Annex\, 51 Northwest Greenwood Avenue\, Bend\, OR\, United States\, 97701
END:VEVENT
END:VCALENDAR
