BEGIN:VCALENDAR
VERSION:2.0
PRODID:-//AudioTheme 3.0.2
BEGIN:VEVENT
UID:urn:uuid:0b3f7193-f0b3-47cf-b176-6a53ec8641a8
URL:https://willbernard.com/shows/john-medeskis-mad-skillet-30/
DTSTART;TZID=GMT:20190217T040000
SUMMARY:John Medeski's Mad Skillet
DESCRIPTION:Mad Skillet with John Medeski\, Will Bernard\, Terence Higgins and Kirk Joseph
LOCATION:Roseland Theater\, 8 Northwest 6th Avenue\, Portland\, OR\, United States\, 97209
END:VEVENT
END:VCALENDAR
