BEGIN:VCALENDAR
VERSION:2.0
PRODID:-//AudioTheme 3.0.2
BEGIN:VEVENT
UID:urn:uuid:e75563a6-afdd-44f0-bf10-355adb00ae24
URL:https://willbernard.com/shows/john-medeskis-mad-skillet-29/
DTSTART;TZID=GMT:20190216T040000
SUMMARY:John Medeski's Mad Skillet
DESCRIPTION:Mad Skillet with John Medeski\, Terence Higgins and Kirk Joseph
LOCATION:The Showbox\, 1426 1st Avenue\, Seattle\, WA\, United States\, 98101
END:VEVENT
END:VCALENDAR
