BEGIN:VCALENDAR
VERSION:2.0
PRODID:-//AudioTheme 3.0.2
BEGIN:VEVENT
UID:urn:uuid:7663089d-7487-4c03-9a73-37887ab67db6
URL:https://willbernard.com/shows/john-medeskis-mad-skillet-27/
DTSTART;VALUE=DATE:20190118
SUMMARY:John Medeski's Mad Skillet
LOCATION:10 Mile Music Hall (opening Fall 2018)\, 710 Main Street\, Frisco\, CO\, United States\, 80443
END:VEVENT
END:VCALENDAR
