BEGIN:VCALENDAR
VERSION:2.0
PRODID:-//AudioTheme 3.0.2
BEGIN:VEVENT
UID:urn:uuid:6b2fd0d3-8f31-4b6f-bb0c-10f0b167778a
URL:https://willbernard.com/shows/john-medeskis-mad-skillet-24/
DTSTART;VALUE=DATE:20190115
SUMMARY:John Medeski's Mad Skillet
LOCATION:Center for the Arts\, 265 South Cache Street\, Jackson\, WY\, United States\, 83001
END:VEVENT
END:VCALENDAR
