BEGIN:VCALENDAR
VERSION:2.0
PRODID:-//AudioTheme 3.0.2
BEGIN:VEVENT
UID:urn:uuid:e45e9920-68a0-4c18-a945-9ab5c411d2d9
URL:https://willbernard.com/shows/john-medeskis-mad-skillet-23/
DTSTART;TZID=GMT:20181118T020000
SUMMARY:John Medeski's Mad Skillet
LOCATION:The Hamilton\, Washington\, DC\, United States
END:VEVENT
END:VCALENDAR
