BEGIN:VCALENDAR
VERSION:2.0
PRODID:-//AudioTheme 3.0.2
BEGIN:VEVENT
UID:urn:uuid:d62b0d27-beec-4655-86a9-db70a19e56c8
URL:https://willbernard.com/shows/john-medeskis-mad-skillet-22/
DTSTART;TZID=GMT:20181110T020000
SUMMARY:John Medeski's Mad Skillet
LOCATION:Ludlow Garage\, Cincinnati\, OH\, United States
END:VEVENT
END:VCALENDAR
