BEGIN:VCALENDAR
VERSION:2.0
PRODID:-//AudioTheme 3.0.2
BEGIN:VEVENT
UID:urn:uuid:95fe4282-1656-468f-8ac9-9bf2176b67ce
URL:https://willbernard.com/shows/john-medeskis-mad-skillet-17/
DTSTART;TZID=GMT:20181117T020000
SUMMARY:John Medeski's Mad Skillet
LOCATION:The Ardmore Music Hall\, 23 East Lancaster Avenue\, Ardmore\, PA\, United States\, 19003
END:VEVENT
END:VCALENDAR
