BEGIN:VCALENDAR
VERSION:2.0
PRODID:-//AudioTheme 3.0.2
BEGIN:VEVENT
UID:urn:uuid:a5ff021a-7882-4b4c-a07c-57c8f3ad9eac
URL:https://willbernard.com/shows/john-medeskis-mad-skillet-16/
DTSTART;TZID=GMT:20181116T020000
SUMMARY:John Medeski's Mad Skillet
LOCATION:Brooklyn Bowl\, 61 Wythe Avenue\, Brooklyn\, NY\, USA\, 11249
END:VEVENT
END:VCALENDAR
