BEGIN:VCALENDAR
VERSION:2.0
PRODID:-//AudioTheme 3.0.2
BEGIN:VEVENT
UID:urn:uuid:b9cffdf6-8870-4d46-8df7-5910d3940ec1
URL:https://willbernard.com/shows/john-medeskis-mad-skillet-15/
DTSTART;TZID=GMT:20181115T020000
SUMMARY:John Medeski's mad Skillet
LOCATION:Cohoes Music Hall\, 58 Remsen Street\, Cohoes\, NY\, United States\, 12047
END:VEVENT
END:VCALENDAR
