BEGIN:VCALENDAR
VERSION:2.0
PRODID:-//AudioTheme 3.0.2
BEGIN:VEVENT
UID:urn:uuid:b1d6d1f6-f158-4cd2-81be-191f7c8b5062
URL:https://willbernard.com/shows/john-medeskis-mad-skillet-12/
DTSTART;TZID=GMT:20181111T020000
SUMMARY:John Medeski's Mad Skillet
LOCATION:The Kent Stage\, 175 East Main Street\, Kent\, OH\, United States\, 44240
END:VEVENT
END:VCALENDAR
