BEGIN:VCALENDAR
VERSION:2.0
PRODID:-//AudioTheme 3.0.2
BEGIN:VEVENT
UID:urn:uuid:3793dc71-5476-48ff-bf94-8d17e5aa11df
URL:https://willbernard.com/shows/john-medeksis-mad-skillet/
DTSTART;TZID=GMT:20250914T010000
SUMMARY:John Medeksi's Mad Skillet
DESCRIPTION:John Medeksi's Mad Skillet
LOCATION:Music at the intersection\, St. Louis\, MO\, United States
END:VEVENT
END:VCALENDAR
