BEGIN:VCALENDAR
VERSION:2.0
PRODID:-//AudioTheme 3.0.2
BEGIN:VEVENT
UID:urn:uuid:94c911e7-f7eb-4f0d-9dba-96eee19632cf
URL:https://willbernard.com/shows/jim-alfredson-trio-lansing-jazz-fest/
DTSTART;TZID=GMT:20210807T000000
SUMMARY:Jim Alfredson Trio @ Lansing Jazz fest
DESCRIPTION:Jim Alfredson Trio @ Lansing Jazz fest
END:VEVENT
END:VCALENDAR
