BEGIN:VCALENDAR
VERSION:2.0
PRODID:-//AudioTheme 3.0.2
BEGIN:VEVENT
UID:urn:uuid:b509d520-43a1-4f6b-9c5a-a8dd169bb7f4
URL:https://willbernard.com/shows/jenna-mamina-and-will-bernard-duo/
DTSTART;TZID=GMT:20220506T003000
SUMMARY:Jenna Mamina and Will Bernard duo
DESCRIPTION:Jenna Mamina and Will Bernard duo
LOCATION:International House Hotel\, 221 Camp Street\, New Orleans\, LA\, United States\, 70130
END:VEVENT
END:VCALENDAR
