BEGIN:VCALENDAR
VERSION:2.0
PRODID:-//AudioTheme 3.0.2
BEGIN:VEVENT
UID:urn:uuid:5665fd20-89e1-433c-934d-e6cf836b5dfb
URL:https://willbernard.com/shows/jazz-camp-west-2/
DTSTART;VALUE=DATE:20190622
SUMMARY:Jazz Camp West
DESCRIPTION:Will will be teaching at Jazz Camp West this year! June 22-29   https://www.livingjazz.org/jazz-camp-west
LOCATION:YMCA Camp Jones Gulch\, 11000 Pescadero Creek Road\, La Honda\, CA\, United States\, 94020
END:VEVENT
END:VCALENDAR
