BEGIN:VCALENDAR
VERSION:2.0
PRODID:-//AudioTheme 3.0.2
BEGIN:VEVENT
UID:urn:uuid:1a96d6ef-b708-438c-93b8-0b8772aa32d3
URL:https://willbernard.com/shows/james-singletons-malabar-3/
DTSTART;TZID=GMT:20260505T020000
SUMMARY:James Singleton's Malabar
DESCRIPTION:James Singleton's Malabar
LOCATION:Cafe Istanbul\, 2372 Saint Claude Avenue\, New Orleans\, LA\, United States\, 70117
END:VEVENT
END:VCALENDAR
