BEGIN:VCALENDAR
VERSION:2.0
PRODID:-//AudioTheme 3.0.2
BEGIN:VEVENT
UID:urn:uuid:a0f34461-1d70-4fb2-8110-0e3d870568a0
URL:https://willbernard.com/shows/james-singletons-malabar-2/
DTSTART;TZID=GMT:20240430T000000
SUMMARY:James Singleton's Malabar
DESCRIPTION:James Singleton's Malabar
LOCATION:Cafe Istanbul\, 2372 Saint Claude Avenue\, New Orleans\, LA\, United States\, 70117
END:VEVENT
END:VCALENDAR
