BEGIN:VCALENDAR
VERSION:2.0
PRODID:-//AudioTheme 3.0.2
BEGIN:VEVENT
UID:urn:uuid:b96f13d6-ad47-4b72-baa1-8722485031c9
URL:https://willbernard.com/shows/ikue-mori-will-bernard-brian-chase-peter-apfelbaum-mike-mcginnis-charlie-burnham/
DTSTART;TZID=GMT:20191215T013000
SUMMARY:Ikue Mori, Will Bernard, Brian Chase, Yuka Honda
DESCRIPTION:Ikue Mori\, Will Bernard\, Brian Chase\, Peter Apfelbaum\, Mike Mcginnis\, Charlie Burnham
LOCATION:The Stone at the New School\, 55 West 13th Street\, New York\, NY\, United States\, 10011
END:VEVENT
END:VCALENDAR
