BEGIN:VCALENDAR
VERSION:2.0
PRODID:-//AudioTheme 3.0.2
BEGIN:VEVENT
UID:urn:uuid:eb8b0500-21e0-487a-a677-3240976e8a00
URL:https://willbernard.com/shows/guitar-workshop-focus-on-rhythm/
DTSTART;TZID=GMT:20240407T180000
SUMMARY:Guitar Workshop "Focus on Rhythm"
LOCATION:California Jazz Conservatory\, 2087 Addison Street\, Berkeley\, CA\, United States\, 94704
END:VEVENT
END:VCALENDAR
