BEGIN:VCALENDAR
VERSION:2.0
PRODID:-//AudioTheme 3.0.2
BEGIN:VEVENT
UID:urn:uuid:ea038e58-931d-45e0-a9eb-31ec215e1517
URL:https://willbernard.com/shows/good-foot/
DTSTART;TZID=GMT:20190509T000000
SUMMARY:Will Bernard, Tarik Abouzied, Joe Doria
DESCRIPTION:Will Bernard\, Tarik Abouzied\, Joe Doria
LOCATION:Goodfoot Pub and Lounge\, 2845 SE Stark st\, Portland\, Oregon\, Usa
END:VEVENT
END:VCALENDAR
