BEGIN:VCALENDAR
VERSION:2.0
PRODID:-//AudioTheme 3.0.2
BEGIN:VEVENT
UID:urn:uuid:a2596dcf-f53d-428a-bf66-5043df6f9bcc
URL:https://willbernard.com/shows/gig-790/
DTSTART;TZID=GMT:20190505T030000
SUMMARY:Cafe Istanbul
DESCRIPTION:Super jam with Leo Nocentelli\, Will Bernard\, Eric Krasno\, Wil Blades\, Johnny Vidacovich.
LOCATION:Cafe Istanbul\, 2372 Saint Claude Avenue\, New Orleans\, LA\, United States\, 70117
END:VEVENT
END:VCALENDAR
