BEGIN:VCALENDAR
VERSION:2.0
PRODID:-//AudioTheme 3.0.2
BEGIN:VEVENT
UID:urn:uuid:b2612c31-57da-44b4-ac44-4c93b84a7627
URL:https://willbernard.com/shows/frequinox-with-will-bernard-robert-walter-robert-mercurio-donald-harrison-and-stanton-moore/
DTSTART;TZID=GMT:20260503T000000
SUMMARY:Frequinox with Will Bernard, Robert Walter, Robert Mercurio Donald Harrison and Stanton Moore
DESCRIPTION:Frequinox with Will Bernard\, Robert Walter\, Robert Mercurio Donald Harrison and Stanton Moore
END:VEVENT
END:VCALENDAR
