BEGIN:VCALENDAR
VERSION:2.0
PRODID:-//AudioTheme 3.0.2
BEGIN:VEVENT
UID:urn:uuid:bb0f05c5-76d4-45ee-9c38-e9d9dd742aa9
URL:https://willbernard.com/shows/frequinox-5/
DTSTART;TZID=GMT:20200428T030000
SUMMARY:Frequinox
LOCATION:One Eyed Jacks\, 615 Toulouse Street\, New Orleans\, LA\, United States\, 70130
END:VEVENT
END:VCALENDAR
