BEGIN:VCALENDAR
VERSION:2.0
PRODID:-//AudioTheme 3.0.2
BEGIN:VEVENT
UID:urn:uuid:edbc6bd9-bbf3-4a89-836d-109c76e3af05
URL:https://willbernard.com/shows/frequinox-4/
DTSTART;TZID=GMT:20190430T030000
SUMMARY:Frequinox
DESCRIPTION:Frequinox with Donald Harrison\, Stanton Moore\, Robert Walter\, Will Bernard\, Robert Mercurio and Nicholas Payton
LOCATION:One Eyed Jacks\, 615 Toulouse Street\, New Orleans\, LA\, United States\, 70130
END:VEVENT
END:VCALENDAR
