BEGIN:VCALENDAR
VERSION:2.0
PRODID:-//AudioTheme 3.0.2
BEGIN:VEVENT
UID:urn:uuid:fac6cb5b-8f7a-4228-a251-46dfd61f8c9d
URL:https://willbernard.com/shows/frequinauts/
DTSTART;TZID=GMT:20230502T030000
SUMMARY:Frequinauts
DESCRIPTION:Frequinauts
LOCATION:Toulouse Theatre\, 615 Toulouse Street\, New Orleans\, LA\, United States\, 70130
END:VEVENT
END:VCALENDAR
