BEGIN:VCALENDAR
VERSION:2.0
PRODID:-//AudioTheme 3.0.2
BEGIN:VEVENT
UID:urn:uuid:62c2a672-a05b-4dd0-961d-ebc18f718d4e
URL:https://willbernard.com/shows/frequinauts-with-wb-stanton-moore-robert-walter-robert-mercurio-and-skerik/
DTSTART;TZID=GMT:20250429T040000
SUMMARY:Frequinauts with WB, Stanton Moore, Robert Walter, Robert Mercurio and Skerik
DESCRIPTION:Frequinauts with WB\, Stanton Moore\, Robert Walter\, Robert Mercurio and Skerik
LOCATION:Toulouse Theatre\, 615 Toulouse Street\, New Orleans\, LA\, United States\, 70130
END:VEVENT
END:VCALENDAR
