BEGIN:VCALENDAR
VERSION:2.0
PRODID:-//AudioTheme 3.0.2
BEGIN:VEVENT
UID:urn:uuid:e09f2b15-b734-43de-a645-0c32bfe2c8f1
URL:https://willbernard.com/shows/frequinauts-2/
DTSTART;VALUE=DATE:
SUMMARY:Frequinauts
DESCRIPTION:Frequinauts
LOCATION:The Broadside\, 600 North Broad Street\, New Orleans\, LA\, United States\, 70119
END:VEVENT
END:VCALENDAR
