BEGIN:VCALENDAR
VERSION:2.0
PRODID:-//AudioTheme 3.0.2
BEGIN:VEVENT
UID:urn:uuid:a41c59af-aaf0-4165-b7c1-27c6abd58fe9
URL:https://willbernard.com/shows/freight-and-salvage-anniversary-party/
DTSTART;TZID=GMT:20180922T000000
SUMMARY:Freight and Salvage Anniversary party
DESCRIPTION:Zigaboo Modeliste\, Linda Tillary\, Wil Blades\, Will Bernard
LOCATION:Freight and Salvage\, 2020 Addison Street \, Berkeley\, CA\, USA	\, 94704
END:VEVENT
END:VCALENDAR
