BEGIN:VCALENDAR
VERSION:2.0
PRODID:-//AudioTheme 3.0.2
BEGIN:VEVENT
UID:urn:uuid:7b70f0d2-dec9-479b-bdab-7f646d250814
URL:https://willbernard.com/shows/freelance-subversives-with-eric-kalb-ben-stivers-and-jeff-hanley/
DTSTART;TZID=GMT:20251122T010000
SUMMARY:Freelance Subversives with Eric Kalb, Ben Stivers and Jeff Hanley
DESCRIPTION:Freelance Subversives with Eric Kalb\, Ben Stivers and Jeff Hanley
LOCATION:Triumph Restaurant & Brewery\, 1 Bridge Avenue\, Red Bank\, NJ\, United States\, 07701
END:VEVENT
END:VCALENDAR
