BEGIN:VCALENDAR
VERSION:2.0
PRODID:-//AudioTheme 3.0.2
BEGIN:VEVENT
UID:urn:uuid:ea526e9e-0e12-430b-a75e-a4a4aae9f8a4
URL:https://willbernard.com/shows/fred-wesley-mike-clark-donald-harrison-robert-walter-will-bernard/
DTSTART;TZID=GMT:20210724T210000
SUMMARY:Fred Wesley, Mike Clark, Donald Harrison, Robert Walter, Will Bernard
DESCRIPTION:Fred Wesley\, Mike Clark\, Donald Harrison\, Robert Walter\, Will Bernard
LOCATION:Backyard Chill\, Chicago\, IL\, United States
END:VEVENT
END:VCALENDAR
