BEGIN:VCALENDAR
VERSION:2.0
PRODID:-//AudioTheme 3.0.2
BEGIN:VEVENT
UID:urn:uuid:f1f3d8f6-2caa-4de6-8965-fa27432f0a7a
URL:https://willbernard.com/shows/fred-thomas-of-the-jbs-3/
DTSTART;TZID=GMT:20251004T000000
SUMMARY:Fred Thomas of the JBs
DESCRIPTION:Fred Thomas of the JBs 
LOCATION:Radegast Hall & Biergarten\, 113 North 3rd Street\, \, NY\, United States\, 11249
END:VEVENT
END:VCALENDAR
