BEGIN:VCALENDAR
VERSION:2.0
PRODID:-//AudioTheme 3.0.2
BEGIN:VEVENT
UID:urn:uuid:6522a808-2b64-4c31-99f4-d822d39dae80
URL:https://willbernard.com/shows/eric-finland-trio-with-will-bernard-eric-kalb/
DTSTART;TZID=GMT:20221208T010000
SUMMARY:Eric Finland trio with  Will Bernard, Eric Kalb
DESCRIPTION:Eric Finland trio with  Will Bernard\, Eric Kalb
LOCATION:The Bitter End\, 147 Bleecker Street\, New York\, NY\, United States\, 10012
END:VEVENT
END:VCALENDAR
