BEGIN:VCALENDAR
VERSION:2.0
PRODID:-//AudioTheme 3.0.2
BEGIN:VEVENT
UID:urn:uuid:8237819f-b5b4-41c8-bf6b-d0e625d0121c
URL:https://willbernard.com/shows/dba/
DTSTART;TZID=GMT:20190429T043000
SUMMARY:John Medeski's Mad Skillet with Will Bernard, Terence Higgins and Kirk Joseph
DESCRIPTION:John Medeski's mad Skillet with Will Bernard\, Terence Higgins and Kirk Joseph
LOCATION:d.b.a.\, 618 Frenchmen Street\, New Orleans\, LA\, United States\, 70116
END:VEVENT
END:VCALENDAR
