BEGIN:VCALENDAR
VERSION:2.0
PRODID:-//AudioTheme 3.0.2
BEGIN:VEVENT
UID:urn:uuid:81383d67-d25a-4502-9a8c-0222fb427aa7
URL:https://willbernard.com/shows/damn-skippy/
DTSTART;TZID=GMT:20181212T000000
SUMMARY:Damn Skippy
DESCRIPTION:Will Bernard\, Scott Amendola\, John Schott\, Jenny Scheinman\, Todd Sickafoose
LOCATION:Ivy Room\, Albany\, CA
END:VEVENT
END:VCALENDAR
