BEGIN:VCALENDAR
VERSION:2.0
PRODID:-//AudioTheme 3.0.2
BEGIN:VEVENT
UID:urn:uuid:34774ecc-8083-4440-8c0d-0a01c7a15c72
URL:https://willbernard.com/shows/damn-skippy-the-ivy-room/
DTSTART;TZID=GMT:20190619T000000
SUMMARY:Damn Skippy @ the Ivy Room
DESCRIPTION:Damn Skippy is 3 members of TJ KIRK:  Will Bernard\, John Schott and Scott Amendola with special guest Giulio Cetta on bass
LOCATION:Ivy Room\, Albany\, CA
END:VEVENT
END:VCALENDAR
