BEGIN:VCALENDAR
VERSION:2.0
PRODID:-//AudioTheme 3.0.2
BEGIN:VEVENT
UID:urn:uuid:06409baa-b7ad-4599-a3a6-3e06096a1e38
URL:https://willbernard.com/shows/damn-skippy-9/
DTSTART;TZID=GMT:20230307T040000
SUMMARY:Damn Skippy
DESCRIPTION:Damn Skippy
LOCATION:Arcata Playhouse\, 1251 9th Street\, Arcata\, CA\, United States\, 95521
END:VEVENT
END:VCALENDAR
