BEGIN:VCALENDAR
VERSION:2.0
PRODID:-//AudioTheme 3.0.2
BEGIN:VEVENT
UID:urn:uuid:50ca8428-6333-45ff-93dc-9bda132569f0
URL:https://willbernard.com/shows/damn-skippy-8/
DTSTART;TZID=GMT:20230305T040000
SUMMARY:Damn Skippy
LOCATION:Mitchell Park\, 600 East Meadow Drive\, Palo Alto\, CA\, United States\, 94303
END:VEVENT
END:VCALENDAR
