BEGIN:VCALENDAR
VERSION:2.0
PRODID:-//AudioTheme 3.0.2
BEGIN:VEVENT
UID:urn:uuid:8e44d777-e5fb-4547-976f-c07b0543dedf
URL:https://willbernard.com/shows/damn-skippy-7/
DTSTART;TZID=GMT:20230304T040000
SUMMARY:Damn Skippy
DESCRIPTION:Damn Skippy
LOCATION:HopMonk Tavern Novato\, 224 Vintage Way\, Novato\, CA\, United States\, 94945
END:VEVENT
END:VCALENDAR
