BEGIN:VCALENDAR
VERSION:2.0
PRODID:-//AudioTheme 3.0.2
BEGIN:VEVENT
UID:urn:uuid:67de033e-b725-4456-8c04-58a79518349d
URL:https://willbernard.com/shows/damn-skippy-6/
DTSTART;TZID=GMT:20230308T040000
SUMMARY:Damn Skippy
LOCATION:The Shedd Institute\, 868 High Street\, Eugene\, OR\, United States\, 97401
END:VEVENT
END:VCALENDAR
