BEGIN:VCALENDAR
VERSION:2.0
PRODID:-//AudioTheme 3.0.2
BEGIN:VEVENT
UID:urn:uuid:378dfb11-ef19-450f-ad00-4f5a7a503b32
URL:https://willbernard.com/shows/damn-skippy-3/
DTSTART;TZID=GMT:20191220T030000
SUMMARY:Damn Skippy
DESCRIPTION:Damn Skippy 
LOCATION:Terrapin Crossroads\, 100 Yacht Club Drive\, San Rafael\, CA\, United States\, 94901
END:VEVENT
END:VCALENDAR
