BEGIN:VCALENDAR
VERSION:2.0
PRODID:-//AudioTheme 3.0.2
BEGIN:VEVENT
UID:urn:uuid:7d67b542-ac88-4d18-b98f-d0cd95aa8be2
URL:https://willbernard.com/shows/cure-all-with-robert-walter-will-bernard-johnny-vidacovich-and-james-singleton/
DTSTART;TZID=GMT:20240505T043000
SUMMARY:Cure All with Robert Walter, Will Bernard, Johnny Vidacovich and James Singleton
DESCRIPTION:Cure All with Robert Walter\, Will Bernard\, Johnny Vidacovich and James Singleton
LOCATION:The Broadside\, 600 North Broad Street\, New Orleans\, LA\, United States\, 70119
END:VEVENT
END:VCALENDAR
