BEGIN:VCALENDAR
VERSION:2.0
PRODID:-//AudioTheme 3.0.2
BEGIN:VEVENT
UID:urn:uuid:cce21f36-0472-48f4-98d2-67fb2eec63e6
URL:https://willbernard.com/shows/creative-music-studio-orchestra-conducted-by-peter-apfelbaum-2/
DTSTART;TZID=GMT:20240527T000000
SUMMARY:Creative music Studio Orchestra conducted by Peter Apfelbaum
DESCRIPTION:Creative music Studio Orchestra conducted by Peter Apfelbaum
LOCATION:Handbell Studios\, 77 cornell st\, Kingston\, NY\, United States
END:VEVENT
END:VCALENDAR
