BEGIN:VCALENDAR
VERSION:2.0
PRODID:-//AudioTheme 3.0.2
BEGIN:VEVENT
UID:urn:uuid:c6b02133-500f-475c-9611-d612b158f820
URL:https://willbernard.com/shows/craig-dreyer-and-friends/
DTSTART;TZID=GMT:20240519T000000
SUMMARY:Craig Dreyer and Friends
DESCRIPTION:Craig Dreyer and Friends
LOCATION:Triumph Restaurant & Brewery\, 1 Bridge Avenue\, Red Bank\, NJ\, United States\, 07701
END:VEVENT
END:VCALENDAR
