BEGIN:VCALENDAR
VERSION:2.0
PRODID:-//AudioTheme 3.0.2
BEGIN:VEVENT
UID:urn:uuid:e9956b14-ca3a-4ab8-abdc-69436fb46e41
URL:https://willbernard.com/shows/craig-dreyer-and-fiends/
DTSTART;TZID=GMT:20250927T003000
SUMMARY:Craig Dreyer and Fiends
DESCRIPTION:Craig Dreyer and Fiends
LOCATION:Triumph Restaurant & Brewery\, 1 Bridge Avenue\, Red Bank\, NJ\, United States\, 07701
END:VEVENT
END:VCALENDAR
