BEGIN:VCALENDAR
VERSION:2.0
PRODID:-//AudioTheme 3.0.2
BEGIN:VEVENT
UID:urn:uuid:7f02bcd1-93c4-4af5-a135-aceb40265db2
URL:https://willbernard.com/shows/clubfoot-orchestra-2/
DTSTART;TZID=GMT:20191111T040000
SUMMARY:Clubfoot Orchestra
DESCRIPTION:Clubfoot plays Metropolis
LOCATION:Victoria Theatre\, 2961 16th Street\, San Francisco\, CA\, United States\, 94103
END:VEVENT
END:VCALENDAR
