BEGIN:VCALENDAR
VERSION:2.0
PRODID:-//AudioTheme 3.0.2
BEGIN:VEVENT
UID:urn:uuid:c3f28ed7-4de2-4fdd-a5b6-cf0d1db0f9ae
URL:https://willbernard.com/shows/club-delf-with-will-bernard-and-john-medeski/
DTSTART;TZID=GMT:20231022T000000
SUMMARY:Club D'ELF with Will Bernard and John Medeski
DESCRIPTION:Club D'ELF with Will Bernard and John Medeski
LOCATION:Groton Hill Music Center\, 122 Old Ayer Road\, Groton\, MA\, United States\, 01450
END:VEVENT
END:VCALENDAR
